BEGIN:VCALENDAR
VERSION:2.0
PRODID:-//wp-events-plugin.com//7.2.3.1//EN
TZID:Europe/London
X-WR-TIMEZONE:Europe/London
BEGIN:VEVENT
UID:162@scarborough41club.co.uk
DTSTART;TZID=Europe/London:20260606T190000
DTEND;TZID=Europe/London:20260606T233000
DTSTAMP:20260402T111232Z
URL:https://www.scarborough41club.co.uk/events/june-2026-bridlington-41-cl
 ub-20th-charter-night/
SUMMARY:June 2026: Bridlington 41 Club 20th Charter Night
DESCRIPTION:Hawaiian Party Night. Tickets £45 pp. For further details and 
 tickets contact casmith@kiltedpixel.co.uk
CATEGORIES:41 Area event
LOCATION:Belvedere Hotel & Golf Club House\, Belvedere Road\, Bridlington\,
  YO15 3NA\, United Kingdom
X-APPLE-STRUCTURED-LOCATION;VALUE=URI;X-ADDRESS=Belvedere Road\, Bridlingto
 n\, YO15 3NA\, United Kingdom;X-APPLE-RADIUS=100;X-TITLE=Belvedere Hotel &
  Golf Club House:geo:0,0
END:VEVENT
BEGIN:VTIMEZONE
TZID:Europe/London
X-LIC-LOCATION:Europe/London
BEGIN:DAYLIGHT
DTSTART:20260329T020000
TZOFFSETFROM:+0000
TZOFFSETTO:+0100
TZNAME:BST
END:DAYLIGHT
END:VTIMEZONE
END:VCALENDAR